BEGIN:VCALENDAR
VERSION:2.0
PRODID:-//www.partnersrl.info - ECPv4.6.24.1//NONSGML v1.0//EN
CALSCALE:GREGORIAN
METHOD:PUBLISH
X-WR-CALNAME:www.partnersrl.info
X-ORIGINAL-URL:https://www.partnersrl.info
X-WR-CALDESC:Events for www.partnersrl.info
BEGIN:VEVENT
DTSTART;VALUE=DATE:20260306
DTEND;VALUE=DATE:20260312
DTSTAMP:20260421T131123
CREATED:20241128T080029Z
LAST-MODIFIED:20260109T124716Z
UID:5729-1772755200-1773273599@www.partnersrl.info
SUMMARY:FORMAZIONE PER ADDETTI AI LAVORI IN QUOTA ed utilizzo DPI di 3° CATEGORIA
DESCRIPTION:FORMAZIONE e ADDESTRAMENTO PER ADDETTI AI LAVORI IN QUOTA\nED UTILIZZO DPI DI 3° CATEGORIA\n\n\n\n\nOBBLIGHI: Il corso formazione per Lavori in Quota ed Uso dei DPI di 3° categoria è destinato a tutti i lavoratori\, i datori di lavoro\, i Responsabili del Servizio di Prevenzione e Protezione (RSPP) e altre figure coinvolte in attività soggette al rischio di caduta da un’altezza superiore a 2 metri rispetto a un piano stabile. Questo corso viene erogato conformemente all’articolo 37 del Decreto Legislativo n. 81/2008 e in ottemperanza a quanto stabilito dal Decreto Ministeriale del 10 marzo 1998 (Allegato IX\, Corso B). \n\nDURATA E VALIDITA’: Il corso di Formazione per addetti ai lavori in quota si estende per un periodo di 8 ore. \nLa partecipazione a questo corso garantisce una certificazione valida per cinque anni. \n\n\n\n\n\nCALENDARIO: \n\n\n6 MARZO 2026 dalle ore 14:00-18:00\n11 MARZO 2026 dalle ore 09:00 – 13:00 \n\n\nCERTIFICAZIONE FINALE: Attestato di frequenza rilasciato a ciascun partecipante idoneo purché abbia frequentato entro il 90 % del monte ore complessivo e abbia superato la verifica finale. \n\n\n\n\n\nPer Informazioni:  MARTINA CREDENDINO  \n0575/360459 – credendino@gruppopartner.com \nPER ISCRIVERTI CLICCA QUI\n\n\n\n\n
URL:https://www.partnersrl.info/corso/lavori-quota-3-2/
LOCATION:Largo Torricelli 7\, Pieve al Toppo (Arezzo)\, 52041
CATEGORIES:Corso
ATTACH;FMTTYPE=image/jpeg:https://www.partnersrl.info/wp-content/uploads/2024/11/thumbnail_IMG_3573.jpg
END:VEVENT
END:VCALENDAR