BEGIN:VCALENDAR
VERSION:2.0
PRODID:-//www.partnersrl.info - ECPv4.6.24.1//NONSGML v1.0//EN
CALSCALE:GREGORIAN
METHOD:PUBLISH
X-WR-CALNAME:www.partnersrl.info
X-ORIGINAL-URL:https://www.partnersrl.info
X-WR-CALDESC:Events for www.partnersrl.info
BEGIN:VEVENT
DTSTART;VALUE=DATE:20260505
DTEND;VALUE=DATE:20260529
DTSTAMP:20260419T234816
CREATED:20250304T080029Z
LAST-MODIFIED:20260323T134201Z
UID:5630-1777939200-1780012799@www.partnersrl.info
SUMMARY:FORMAZIONE RAPPRESENTANTE DEI LAVORATORI PER LA SICUREZZA (RLS) 
DESCRIPTION: CORSO RAPPRESENTANTE DEI\nLAVORATORI PER LA SICUREZZA (RLS)\n\n\nOBBLIGHI: All’interno di un’azienda viene generalmente eletto o designato\, in sede collettiva\, il Rappresentante dei Lavoratori per la Sicurezza (R.L.S.). Quest’ultimo ha diritto ad una formazione specifica in materia di salute e sicurezza.  \n\nDURATA E VALIDITA’: Il corso di Formazione RLS si estende per un periodo di 32 ore.\nLa partecipazione a questo corso garantisce una certificazione valida per un anno. \n\n\n\n\nCALENDARIO: \n05 MAGGIO orario 14:00-18:00\n07 MAGGIO orario 14:00-18:00\n12 MAGGIO orario 14:00-18:00\n14 MAGGIO orario 14:00-18:00\n19 MAGGIO orario 14:00-18:00\n21 MAGGIO orario 14:00-18:00\n26 MAGGIO orario 14:00-18:00\n28 MAGGIO orario 14:00-18:00 \n\nCERTIFICAZIONE FINALE: Attestato di frequenza rilasciato a ciascun partecipante idoneo purché abbia frequentato entro il 90 % del monte ore complessivo e abbia superato la verifica finale. \n\n\n\n\n\nPer Informazioni:  MARTINA CREDENDINO  \n0575/360459 – credendino@gruppopartner.com \nPER ISCRIVERTI CLICCA QUI\n\n\n\n
URL:https://www.partnersrl.info/corso/formazione-rls-rappresentante-dei-lavoratori-per-la-sicurezza-2-2/
LOCATION:Largo Torricelli 7\, Pieve al Toppo (Arezzo)\, 52041
CATEGORIES:Corso
ATTACH;FMTTYPE=image/jpeg:https://www.partnersrl.info/wp-content/uploads/2023/05/LAVORATORI1-e1707207385768.jpg
END:VEVENT
END:VCALENDAR