BEGIN:VCALENDAR
VERSION:2.0
PRODID:-//www.partnersrl.info - ECPv4.6.24.1//NONSGML v1.0//EN
CALSCALE:GREGORIAN
METHOD:PUBLISH
X-WR-CALNAME:www.partnersrl.info
X-ORIGINAL-URL:https://www.partnersrl.info
X-WR-CALDESC:Events for www.partnersrl.info
BEGIN:VEVENT
DTSTART;VALUE=DATE:20260501
DTEND;VALUE=DATE:20260601
DTSTAMP:20260419T174607
CREATED:20241128T080029Z
LAST-MODIFIED:20260116T103333Z
UID:5825-1777593600-1780271999@www.partnersrl.info
SUMMARY:FORMAZIONE PER DATORE DI LAVORO
DESCRIPTION:FORMAZIONE PER DATORE DI LAVORO\n\n\nOBBLIGHI: Il nuovo Accordo Stato-Regioni del 17/04/2025 ha reso obbligatoria la Formazione per datore di lavoro. \n\nDURATA E VALIDITA’: Il corso di Formazione per Datori di Lavoro si estende per un periodo di 16 ore. \nLa partecipazione a questo corso garantisce una certificazione valida per cinque anni. \n\n\n\n\n\nCALENDARIO: \n\n\nMAGGIO 2026 DATE DA DEFINIRE \nDISPONIBILE ANCHE IN MODALITA’ FAD \nCERTIFICAZIONE FINALE: Attestato di frequenza rilasciato a ciascun partecipante idoneo purché abbia frequentato entro il 90 % del monte ore complessivo e abbia superato la verifica finale. \n\n\n\nPer Informazioni:  MARTINA CREDENDINO  \n0575/360459 – credendino@gruppopartner.com \nPER ISCRIVERTI CLICCA QUI\n\n\n\n
URL:https://www.partnersrl.info/corso/formazione-preposti-3-2-2-2-2-2-2-2-2/
LOCATION:Largo Torricelli 7\, Pieve al Toppo (Arezzo)\, 52041
CATEGORIES:Corso
ATTACH;FMTTYPE=image/jpeg:https://www.partnersrl.info/wp-content/uploads/2024/11/pexels-pavel-danilyuk-8112136-scaled.jpg
END:VEVENT
END:VCALENDAR