BEGIN:VCALENDAR
VERSION:2.0
PRODID:-//www.partnersrl.info - ECPv4.6.24.1//NONSGML v1.0//EN
CALSCALE:GREGORIAN
METHOD:PUBLISH
X-WR-CALNAME:www.partnersrl.info
X-ORIGINAL-URL:https://www.partnersrl.info
X-WR-CALDESC:Events for www.partnersrl.info
BEGIN:VEVENT
DTSTART;VALUE=DATE:20220316
DTEND;VALUE=DATE:20220319
DTSTAMP:20260422T100139
CREATED:20220221T140029Z
LAST-MODIFIED:20220223T141234Z
UID:3154-1647388800-1647647999@www.partnersrl.info
SUMMARY:Corso di formazione per "PREPOSTI ALLA SICUREZZA"
DESCRIPTION:\nCORSO DI FORMAZIONE PARTICOLARE E AGGIUNTIVA\nPER PREPOSTI – (8 ore)\n\nAi sensi dell’Accordo Stato-Regioni del 21.12.2011 \nLa formazione per i PREPOSTI deve essere composta dalla formazione dei lavoratori più dal presente percorso formativo aggiuntivo specifico per preposti della durata di 8 ore. Il personale di nuova assunzione a partire dall’entrata in vigore dell’Accordo (11/01/2012) se non già formato deve completare la formazione per i lavoratori ENTRO E NON OLTRE 60 GG DALLA DATA DI ASSUNZIONE. \n\nObiettivi del corso: Formare i preposti secondo quanto previsto dall’Accordo Stato/Regioni del 21/12/2011 al fine di trasmettere le conoscenze e le competenze necessarie per svolgere il proprio ruolo. \n\n\nRequisiti di ingresso: Tutti i partecipanti devono essere in regola con la formazione lavoratori di 8 ore se rischio basso\, oppure 12 ore se rischio medio oppure 16 ore se rischio alto \n\nDURATA: 8 ORE  totali – erogate in interventi di 4 ore ciascuno \nCALENDARIO: \nMercoledì 16 MARZO 2022 – orario: 09.00 -13.00 \nVenerdì 18 Marzo 2022 –  orario: 09.00 -13.00 \nSEDE: Largo Torricelli 7\, loc. Pieve al Toppo – 52041 Civitella in Val di Chiana (AR) \nN.B. Per poter accedere ai nostri locali sarà richiesto l’obbligo di presentazione di “Green Pass”. \nTale Certificazione attesta una delle seguenti condizioni: \n– Aver fatto la vaccinazione anti COVID-19 (almeno con la seconda dose di un vaccino riconosciuto dalla UE e che non siano trascorsi più di 6 mesi )\n– Essere negativi al test molecolare o antigenico rapido nelle ultime 48 ore\n– Essere guariti dal COVID-19 negli ultimi sei mesi. \nQUOTA: € 120\,00 + IVA  a partecipante\n \nCERTIFICAZIONE FINALE: E’ prevista una verifica di apprendimento finale\, mediante questionario scritto a risposta chiusa. Gli attestati nominativi saranno rilasciati a seguito della frequenza completa al corso e superamento del test di verifica finale degli apprendimenti. \nVALIDITA’ CORSO: 2 anni \n\n\n\nCONENUTI DEL CORSO \nI contenuti rispettano quanto previsto dall’Accordo tra Ministero del lavoro e delle politiche sociali\, il Ministero della salute\, le Regioni e le Province autonome di Trento e Bolzano per la formazione dei lavoratori ai sensi dell’art. 37 comma 2 del D.Lgs. 81/08\, del 21/12/2011 come modificato dal D.L. n. 146/2021 (conv. da L. n. 215/2021): \nFORMAZIONE AGGIUNTIVA PREPOSTI: Principali soggetti del sistema di prevenzione aziendale: compiti\, obblighi\, responsabilità; Relazioni tra i vari soggetti interni ed esterni del sistema di prevenzione; Definizione e individuazione dei fattori di rischio; Incidenti e infortuni mancati. Tecniche di comunicazione e sensibilizzazione dei lavoratori\, in particolare neoassunti\, somministrati\, stranieri; Valutazione dei rischi dell’azienda\, con particolare riferimento al contesto in cui il preposto opera; Individuazione misure tecniche\, organizzative e procedurali di prevenzione e protezione. Modalità di esercizio della funzione di controllo dell’osservanza da parte dei lavoratori delle disposizioni di legge e aziendali in materia di salute e sicurezza sul lavoro\, e di uso dei mezzi di protezione collettivi e individuali messi a loro disposizione. \n\n\n\n\n\nPer Informazioni ed iscrizioni:  ELISA BARDELLI\, ROBERTA GIANI e SILVIA GALASSO \ntel. 0575/360459 – 0575/411750  e 055/482916  \n\n\n\n\nemail: formazione@partnersrl.info – formazione@lasi.it – galasso@soluzionesrl.it \n\n\n\nINVIA LA PRE-ADESIONE AL CORSO COMPILANDO IL MODULO SOTTOSTANTE \n[contact-form-7 id=”1115″ title=”Contatti-CORSO PREPOSTI”] \n\n\n
URL:https://www.partnersrl.info/corso/formazione-preposti-2-2/
LOCATION:Largo Torricelli 7\, Pieve al Toppo (Arezzo)\, 52041
CATEGORIES:Corso
ATTACH;FMTTYPE=image/jpeg:https://www.partnersrl.info/wp-content/uploads/2019/07/preposto.jpg
END:VEVENT
END:VCALENDAR