BEGIN:VCALENDAR
VERSION:2.0
PRODID:-//www.partnersrl.info - ECPv4.6.24.1//NONSGML v1.0//EN
CALSCALE:GREGORIAN
METHOD:PUBLISH
X-WR-CALNAME:www.partnersrl.info
X-ORIGINAL-URL:https://www.partnersrl.info
X-WR-CALDESC:Events for www.partnersrl.info
BEGIN:VEVENT
DTSTART;VALUE=DATE:20240507
DTEND;VALUE=DATE:20240524
DTSTAMP:20260421T004708
CREATED:20240408T080029Z
LAST-MODIFIED:20240408T072100Z
UID:4484-1715040000-1716508799@www.partnersrl.info
SUMMARY:FORMAZIONE OBBLIGATORIA SICUREZZA LAVORATORI - RISCHIO ALTO
DESCRIPTION:FORMAZIONE OBBLIGATORIA PER LAVORATORI IN MATERIA DI  SALUTE E SICUREZZA NEI LUOGHI DI LAVORO – RISCHIO ALTO\n\n\nOBBLIGHI: La formazione sulla sicurezza generale dei lavoratori è uno dei principali obblighi a carico del datore di lavoro\, così come stabilito nel Decreto Legislativo 81/08. Questo obbligo è principalmente sancito dall’articolo 37\, che richiede al datore di lavoro di organizzare la formazione dei dipendenti secondo i contenuti e la durata previsti dall’Accordo Stato-Regioni del 21/12/2011.  \n\nDURATA E VALIDITA’: Il corso di Formazione lavoratori rischio alto si estende per un periodo di 16 ore. \nLa partecipazione a questo corso garantisce una certificazione valida per cinque anni. \n\n\n\n\n\nCALENDARIO: \n\n\n07 MAGGIO 2024 orario 14.00 – 18.00\n14 MAGGIO 2024 orario 14.00 – 18.00\n21 MAGGIO 2024 orario 14.00 – 18.00\n23 MAGGIO 2024 orario 09.00 – 13.00\n \nCERTIFICAZIONE FINALE: Attestato di frequenza rilasciato a ciascun partecipante idoneo purché abbia frequentato entro il 90 % del monte ore complessivo e abbia superato la verifica finale. \n\n\n\n\n\n\n\nPer Informazioni:  MARTINA CREDENDINO  \n0575/360459 – credendino@gruppopartner.com \nPER ISCRIVERTI CLICCA QUI\n\n\n\n\n
URL:https://www.partnersrl.info/corso/formazione-lavoratori-rischio-alto/
LOCATION:Largo Torricelli 7\, Pieve al Toppo (Arezzo)\, 52041
CATEGORIES:Corso
ATTACH;FMTTYPE=image/jpeg:https://www.partnersrl.info/wp-content/uploads/2024/04/LAVORATORI-2.jpg
END:VEVENT
END:VCALENDAR