BEGIN:VCALENDAR
VERSION:2.0
PRODID:-//www.partnersrl.info - ECPv4.6.24.1//NONSGML v1.0//EN
CALSCALE:GREGORIAN
METHOD:PUBLISH
X-WR-CALNAME:www.partnersrl.info
X-ORIGINAL-URL:https://www.partnersrl.info
X-WR-CALDESC:Events for www.partnersrl.info
BEGIN:VEVENT
DTSTART;VALUE=DATE:20260501
DTEND;VALUE=DATE:20260601
DTSTAMP:20260419T191904
CREATED:20241127T080029Z
LAST-MODIFIED:20260116T091845Z
UID:5832-1777593600-1780271999@www.partnersrl.info
SUMMARY:FORMAZIONE CARROPONTE
DESCRIPTION:FORMAZIONE CARROPONTE \n\n\n\nOBBLIGHI: L’articolo 73 del Decreto Legislativo 81/08 stabilisce l’obbligo del Datore di Lavoro di garantire che i lavoratori incaricati dell’uso delle attrezzature di lavoro ricevano una formazione specifica per garantire un utilizzo corretto e sicuro. L’Accordo Stato-Regioni del 17/04/2025 ha identificato le attrezzature di lavoro per le quali è richiesta un’abilitazione specifica degli operatori\, e tra queste sono compresi i carroponti. \nDURATA E VALIDITA’: Il corso si estende per un periodo di 10 ore.\nLa partecipazione a questo corso garantisce una certificazione valida per cinque anni.\nAl termine di questo periodo\, è necessario sottoporsi a un corso di aggiornamento della durata di 4 ore per mantenere la validità della certificazione. \n\nCALENDARIO: \nMAGGIO 2026 DATE DA DEFINIRE\n \nCERTIFICAZIONE FINALE: Attestato di frequenza rilasciato a ciascun partecipante idoneo purché abbia frequentato entro il 90 % del monte ore complessivo e purchè abbia superato la verifica scritta intermedia e la verifica pratica finale. \n\n\n\n\n\n\n\nPer Informazioni:  MARTINA CREDENDINO \n0575/360459 – credendino@gruppopartner.com  \n\n\nPER ISCRIVERTI CLICCA QUI\n\n\n
URL:https://www.partnersrl.info/corso/formazione-carrello-elevatore-3-2-3-2/
LOCATION:Largo Torricelli 7\, Pieve al Toppo (Arezzo)\, 52041
CATEGORIES:Corso
ATTACH;FMTTYPE=image/jpeg:https://www.partnersrl.info/wp-content/uploads/2024/11/pexels-rolledalloys-metal-supply-8940232-scaled.jpg
END:VEVENT
END:VCALENDAR