BEGIN:VCALENDAR
VERSION:2.0
PRODID:-//www.partnersrl.info - ECPv4.6.24.1//NONSGML v1.0//EN
CALSCALE:GREGORIAN
METHOD:PUBLISH
X-WR-CALNAME:www.partnersrl.info
X-ORIGINAL-URL:https://www.partnersrl.info
X-WR-CALDESC:Events for www.partnersrl.info
BEGIN:VEVENT
DTSTART;VALUE=DATE:20260317
DTEND;VALUE=DATE:20260411
DTSTAMP:20260419T235601
CREATED:20240708T070029Z
LAST-MODIFIED:20260130T115115Z
UID:5683-1773705600-1775865599@www.partnersrl.info
SUMMARY:FORMAZIONE ANTINCENDIO - LIVELLO 3
DESCRIPTION:FORMAZIONE PER ADDETTI ALLA SQUADRA ANTINCENDIO – LIVELLO 3\n(EX RISCHIO ALTO)\n\n\nOBBLIGHI: Secondo quanto stabilito dall’articolo 43\, comma 1\, lettera b del Decreto Legislativo 81/08 e dal Decreto Ministeriale del 2 settembre 2021\, il datore di lavoro ha l’obbligo di nominare uno o più lavoratori incaricati della gestione delle misure di prevenzione incendi e della gestione delle emergenze. \n\nDURATA E VALIDITA’: Il corso di Formazione antincendio – livello 3 si estende per un periodo di 16 ore. \nLa partecipazione a questo corso garantisce una certificazione valida per cinque anni. \n\n\n\n\n\n\n\nCALENDARIO: \n\n\n17 MARZO 2026 orario 09:00 – 12:00\n24 MARZO 2026 orario 8:30 – 13:30\n31 MARZO 2026 orario 14:00 – 18:00\n10 APRILE 2026 orario 14:00 – 18:00 \nCERTIFICAZIONE FINALE: Attestato di frequenza rilasciato a ciascun partecipante idoneo purché abbia frequentato entro il 90 % del monte ore complessivo e abbia superato la verifica finale. \n\n\n\n\n\nPer Informazioni:  MARTINA CREDENDINO  \n0575/360459 – credendino@gruppopartner.com \nPER ISCRIVERTI CLICCA QUI\n\n\n\n\n  \n
URL:https://www.partnersrl.info/corso/formazione-antincendio-livello-2-medioaggiornamento-antincendio-3-3-4/
LOCATION:Largo Torricelli 7\, Pieve al Toppo (Arezzo)\, 52041
CATEGORIES:Corso
ATTACH;FMTTYPE=image/jpeg:https://www.partnersrl.info/wp-content/uploads/2024/11/thumbnail_IMG_3205.jpg
END:VEVENT
END:VCALENDAR