BEGIN:VCALENDAR
VERSION:2.0
PRODID:-//www.partnersrl.info - ECPv4.6.24.1//NONSGML v1.0//EN
CALSCALE:GREGORIAN
METHOD:PUBLISH
X-WR-CALNAME:www.partnersrl.info
X-ORIGINAL-URL:https://www.partnersrl.info
X-WR-CALDESC:Events for www.partnersrl.info
BEGIN:VEVENT
DTSTART;VALUE=DATE:20260401
DTEND;VALUE=DATE:20260501
DTSTAMP:20260419T221858
CREATED:20240319T100029Z
LAST-MODIFIED:20260116T094401Z
UID:5866-1775001600-1777593599@www.partnersrl.info
SUMMARY:FORMAZIONE OBBLIGATORIA PER UTILIZZATORI PROFESSIONALI DI PRODOTTI FITOSANITARI
DESCRIPTION:FORMAZIONE OBBLIGATORIA PER UTILIZZATORI PROFESSIONALI DI PRODOTTI FITOSANITARI\n\n\n\nObiettivi del corso: si tratta di un percorso formativo normato a livello nazionale/regionale\, finalizzato a preparare all’uso sicuro e responsabile dei prodotti fitosanitari in ambito professionale. La partecipazione al corso è uno dei requisiti necessari per ottenere l’abilitazione all’acquisto e all’impiego di tali prodotti secondo la normativa vigente. \nDestinatari: operatori agricoli\, tecnici e personale di imprese che utilizzano prodotti fitosanitari a scopo professionale. Il datore di lavoro è tenuto a garantire che tutti i lavoratori esposti o potenzialmente esposti ricevano una formazione sufficiente\, aggiornata e periodica\, nel rispetto delle norme sulla sicurezza e sull’uso corretto dei prodotti chimici. \n\nCALENDARIO: \nAPRILE 2026 – DATE DA DEFINIRE \nCERTIFICAZIONE FINALE: Attestato di frequenza rilasciato a ciascun partecipante idoneo purché abbia frequentato entro il 90 % del monte ore complessivo e purché abbia superato la verifica finale. \nVALIDITA’ CORSO: 5 anni \n\n\n\n\n\n\n\nPer Informazioni:  MARTINA CREDENDINO \n0575/360459 – credendino@gruppopartner.com \n\n\nPER ISCRIVERTI CLICCA QUI\n\n\n
URL:https://www.partnersrl.info/corso/corso-per-addetti-alla-rimozione-smaltimento-bonifica-amianto-3/
LOCATION:Largo Torricelli 7\, Pieve al Toppo (Arezzo)\, 52041
CATEGORIES:Corso
ATTACH;FMTTYPE=image/jpeg:https://www.partnersrl.info/wp-content/uploads/2024/03/fito.jpg
END:VEVENT
END:VCALENDAR