BEGIN:VCALENDAR
VERSION:2.0
PRODID:-//www.partnersrl.info - ECPv4.6.24.1//NONSGML v1.0//EN
CALSCALE:GREGORIAN
METHOD:PUBLISH
X-WR-CALNAME:www.partnersrl.info
X-ORIGINAL-URL:https://www.partnersrl.info
X-WR-CALDESC:Events for www.partnersrl.info
BEGIN:VEVENT
DTSTART;VALUE=DATE:20220506
DTEND;VALUE=DATE:20220702
DTSTAMP:20260419T210217
CREATED:20220228T153057Z
LAST-MODIFIED:20220304T114531Z
UID:3187-1651795200-1656719999@www.partnersrl.info
SUMMARY:AVVIO corso per "LEAD AUDITOR ISO 45001:2018" – valido come aggiornamento RSPP/ASPP ed RLS
DESCRIPTION: \nTÜV AUSTRIA CERT in partnership con l’Agenzia Formativa Accreditata PARTNER e LASI SRL \norganizzano il corso di formazione abilitante “delle 40 ore” per\nLEAD AUDITOR ISO 45001:2018 \nsui Sistemi di Gestione per la Salute e Sicurezza\n rivolto a dipendenti e professionisti\, consulenti\, valevole anche come Aggiornamento per RSPP/ASPP e RLS e Datori-RSPP per 40 ore/crediti\n\nObiettivi del corso: il Corso fornisce competenze e metodologie sulle modalità di conduzione degli Audit di Parte Terza per la valutazione dei Sistemi di Gestione per la Salute e Sicurezza secondo la nuova Norma ISO 45001:2018 \n\n\nDestinatari: il Corso é indirizzato a chi intende operare nelle Organizzazioni che implementano Sistemi di Gestione per la Salute e Sicurezza\, sia come professionista che come dipendente. E’ inoltre essenziale per chi intende svolgere attività di Auditor ISO 45001:2018 per conto di un Organismo di Certificazione\, ma anche per attività di Auditing presso sub-appaltatori e fornitori su commissione. \nPrerequisiti partecipanti: diploma di istruzione secondaria. \n\nPROGRAMMA DEL CORSO \nModulo 1 – Richiami del quadro legislativo di riferimento in materia di Salute e Sicurezza: struttura del D.lgs. 81/08 e ss.aa. e ii.\, ruoli e responsabilità previste\, principali adempimenti e requisiti. L’art. 30 del D.lgs. 81/08 ed i Sistemi di Gestione per la Sicurezza\, cenni alla norma B.S. 18001:2007. L’evoluzione dei Sistemi di Gestione per la Salute e Sicurezza: i principi della ISO 45001:2018. Richiami ai concetti di Risk Management secondo le ISO 30000\, l’organizzazione per processi: monitoraggio e misurabilità. Classificazione ed elementi costitutivi dei processi\, di realizzazione e di supporto. Indicatori per il monitoraggio. Approccio alla Gestione dei Processi basato sul Rischio ed Opportunità. Come individuare\, analizzare e valutare i Rischi. Integrazione della Valutazione dei Rischi con aspetti di salute\, ambiente e qualità. Esercitazioni individuali e collettive\, discussione dei risultati. \nModulo 2 – La struttura della norma ISO 45001 e l’approccio HLS. Principi\, Termini e definizioni. Analisi puntuale della norma ISO 45001:2018. Analisi del Contesto. Il ruolo delle Parti Interessate nei Sistemi di Gestione per la Salute e Sicurezza. Il ruolo della Direzione e importanza dei processi di gestione delle risorse umane per la 45001:2018. Pianificazione\, obiettivi e gestione dei cambiamenti. Documentazione del Sistema di Gestione: le informazioni documentate. I processi di supporto. I processi operativi: la pianificazione delle attività operative\, il controllo\, monitoraggio e sorveglianza. Esercitazioni individuali e collettive\, discussione dei risultati. \nModulo 3 – Monitoraggio\, strumenti di controllo ed indicatori. Tipologia di audit. Norma UNI EN ISO 19011\, principi dell’attività di audit\, gestione di un programma di audit\, attività di audit\, competenza e valutazione degli auditor. Cenni alla Norma UNI CEI EN ISO/IEC 17021. Metodologie di conduzione degli audit in linea con l’impostazione della ISO 45001:2018. Impostazione e preparazione di check-list a supporto della conduzione della verifica ispettiva. Riportare i risultati della verifica ispettiva e criteri per la classificazione delle anomalie. Aspetti comportamentali\, deontologici e relazionali nello svolgimento delle attività di verifica ispettiva. Il Riesame della Direzione. Non Conformità e Azioni Correttive. Piani di Miglioramento. Esercitazioni individuali e collettive\, discussione dei risultati. \nModulo 4 – Preparazione e svolgimento Esame Finale. Focus sui requisiti critici e di complessa valutazione della ISO 45001:2018. Norma UNI EN ISO 19011. Esercitazioni con simulazione per la conduzione di verifiche ispettive di terza parte. Svolgimento delle prove di esame finale\, correzione e discussione sui risultati delle prove. \n______________________________________________________________________________________________________________________________________ \nDURATA: 40 ORE  totali\, di cui 4 per la sessione di certificazione delle competenze \nCALENDARIO E SEDI: \nVenerdì 06\, 13\, 20\, 27 Maggio e 17\,24 Giugno 2022 orario: 09.00 – 13.00 \nSEDE: Videoconferenza sincrona tramite piattaforma GOOGLE MEET \nVenerdì 10 Giugno e 01 Luglio orario: 09.00 – 13.00 / 14.00-18.00 \nSEDE: Largo Torricelli 7 – 52041 Civitella in Val di Chiana (AR) \nQUOTA: € 800\,00 + IVA (quota corso) e € 200\,00 + IVA (esame certificazione delle competenze) \nCERTIFICAZIONE FINALE: Verrà rilasciato un attestato finale con dichiarazione degli apprendimenti\, valevole anche come Crediti per aggiornamento RSPP/ASPP/RLS\, Datore e per altre figure professionali. Direttamente dall’Ente TÜV sarà rilasciata Certificazione delle Competenze previo superamento delle prove finali previste. \nPER ISCRIZIONI CLICCA QUI\n\n\n\nPer Informazioni ed iscrizioni:  BARDELLI ELISA – GIANI ROBERTA \n tel. 0575 -360459  – email: formazione@partnersrl.info \n
URL:https://www.partnersrl.info/corso/corso-abilitante-delle-40-ore-per-lead-auditor-iso-450012018-valido-come-aggiornamento-rspp-2/
LOCATION:Largo Torricelli 7\, Pieve al Toppo (Arezzo)\, 52041
ATTACH;FMTTYPE=image/jpeg:https://www.partnersrl.info/wp-content/uploads/2019/01/plan-686327_960_720.jpg
END:VEVENT
END:VCALENDAR