BEGIN:VCALENDAR
VERSION:2.0
PRODID:-//www.partnersrl.info - ECPv4.6.24.1//NONSGML v1.0//EN
CALSCALE:GREGORIAN
METHOD:PUBLISH
X-WR-CALNAME:www.partnersrl.info
X-ORIGINAL-URL:https://www.partnersrl.info
X-WR-CALDESC:Events for www.partnersrl.info
BEGIN:VEVENT
DTSTART;VALUE=DATE:20220323
DTEND;VALUE=DATE:20220331
DTSTAMP:20260420T091158
CREATED:20220222T080029Z
LAST-MODIFIED:20220223T141330Z
UID:3155-1647993600-1648684799@www.partnersrl.info
SUMMARY:Corso di "AGGIORNAMENTO per PREPOSTI ALLA SICUREZZA"
DESCRIPTION:\nCORSO DI AGGIORNAMENTO \nPER PREPOSTI – 6 ore\n\n Ai sensi del D.Lgs 81/08 e s.m.i  e dell’Accordo Stato-Regioni del 21.12.2011 come modificato dal D.L. n. 146/2021 (conv. da L. n. 215/2021) \nRequisiti di ingresso: Lavoratori con ruolo di preposti con formazione pregressa documentata per lavoratori (rischio basso 8 ore\, /medio 12 ore o alto 16 ore) e formazione specifica aggiuntiva per preposto di 8 ore. Per allievi di nazionalità straniera: e’ indispensabile una buona conoscenza della lingua italiana\, dunque per accettare l’iscrizione al corso è necessario aver superato un test di ingresso per verificare le conoscenze linguistiche. \n\nObiettivi del corso: Aggiornare i preposti secondo quanto previsto dall’Accordo Stato/Regioni del 21/12/2011 al fine di trasmettere le conoscenze e le competenze necessarie per svolgere il proprio ruolo. \nDestinatari: Il corso è rivolto ai lavoratori che ricoprono il ruolo di preposto all’interno dell’azienda o dell’unità produttiva\, che hanno già effettuato la formazione base. \n\n\n\nDURATA: 6 ORE  totali \nCALENDARIO: \n23 MARZO 2022  – orario: 14.30-17.30 \n30 MARZO 2022 – orario: 14.30-17.30 \nSEDE: Largo Torricelli 7\, loc. Pieve al Toppo – 52041 Civitella in Val di Chiana (AR) \nN.B. Per poter accedere ai nostri locali sarà richiesto l’obbligo di presentazione di “Green Pass”. \nTale Certificazione attesta una delle seguenti condizioni: \n– Aver fatto la vaccinazione anti COVID-19 (almeno con la seconda dose di un vaccino riconosciuto dalla UE e che non siano trascorsi più di 6 mesi )\n– Essere negativi al test molecolare o antigenico rapido nelle ultime 48 ore\n– Essere guariti dal COVID-19 negli ultimi sei mesi. \nQUOTA: €90\,00 + IVA  a partecipante\n \nCERTIFICAZIONE FINALE: gli attestati nominativi saranno rilasciati a seguito della frequenza completa al corso e superamento del test di verifica finale degli apprendimenti. \nVALIDITA’ CORSO: 2 anni \n\n\n\nCONTENUTI DEL CORSO \nOrganigramma aziendale\, compiti funzioni\, ruoli e responsabilità del preposto\, sanzioni del preposto\, rischi all’interno dell’azienda e del reparto – DPI e vigilanza del preposto \nMETODOLOGIE: La metodologia tradizionale della lezione frontale sarà orientata ad un approccio partecipativo e all’utilizzo di supporti didattici collettivi quali slide preparate ad hoc dal docente\, finalizzate a facilitare l’apprendimento attraverso la schematizzazione dei contenuti e favorendo la fruizione della lezione\, mantenendo così alto il livello di attenzione dell’aula. \n\n\n\n\n\nPer Informazioni ed iscrizioni:  ELISA BARDELLI\, ROBERTA GIANI e SILVIA GALASSO \ntel. 0575/360459 – 0575/411750  e 055/482916  \n\n\n\n\nemail: formazione@partnersrl.info – formazione@lasi.it – galasso@soluzionesrl.it \n\n\n\nINVIA LA PRE-ADESIONE AL CORSO COMPILANDO IL MODULO SOTTOSTANTE \n[contact-form-7 id=”1267″ title=”Contatti-CORSO Aggiornamento PREPOSTI 28/05″] \n\n\n
URL:https://www.partnersrl.info/corso/aggiornamento-per-preposti-2-2-2/
LOCATION:Largo Torricelli 7\, Pieve al Toppo (Arezzo)\, 52041
CATEGORIES:Corso
ATTACH;FMTTYPE=image/jpeg:https://www.partnersrl.info/wp-content/uploads/2018/01/sicurezza-e-ambiente600-1.jpg
END:VEVENT
END:VCALENDAR