BEGIN:VCALENDAR
VERSION:2.0
PRODID:-//www.partnersrl.info - ECPv4.6.24.1//NONSGML v1.0//EN
CALSCALE:GREGORIAN
METHOD:PUBLISH
X-WR-CALNAME:www.partnersrl.info
X-ORIGINAL-URL:https://www.partnersrl.info
X-WR-CALDESC:Events for www.partnersrl.info
BEGIN:VEVENT
DTSTART;VALUE=DATE:20260501
DTEND;VALUE=DATE:20260601
DTSTAMP:20260419T192208
CREATED:20241128T080029Z
LAST-MODIFIED:20260112T083315Z
UID:5747-1777593600-1780271999@www.partnersrl.info
SUMMARY:AGGIORNAMENTO PES-PAV-PEI
DESCRIPTION:AGGIORNAMENTO PER TECNICI ADDETTI\nAI LAVORI ELETTRICI – PES PAV PEI\n\n\n\n\nOBBLIGHI: La normativa CEI 11-27 prevede che il datore di lavoro provveda affinché ai lavoratori coinvolti in lavori elettrici\, che lavorano fuori o in prossimità e sotto tensione\, venga erogata una formazione specifica. Questa formazione deve fornire loro le conoscenze e le competenze necessarie per eseguire le attività in modo sicuro e adottare le procedure operative corrette. \n\nDURATA E VALIDITA’: Il corso di Aggiornamento PES-PAV-PEI si estende per un periodo di 4 ore. \nLa partecipazione a questo corso garantisce una certificazione valida per cinque anni. \n\n\n\nCALENDARIO: \nMAGGIO 2026 DATE DA DEFINIRE \n\n\nCERTIFICAZIONE FINALE: Attestato di frequenza rilasciato a ciascun partecipante idoneo purché abbia frequentato entro il 90 % del monte ore complessivo e abbia superato la verifica finale. \n\n\n\n\n\n\n\nPer Informazioni:  MARTINA CREDENDINO  \n0575/360459 – credendino@gruppopartner.com \nPER ISCRIVERTI CLICCA QUI\n\n\n\n\n
URL:https://www.partnersrl.info/corso/aggiornamento-formazione-obbligatoria-pes-pav-pei-3-2-2/
CATEGORIES:Corso
ATTACH;FMTTYPE=image/jpeg:https://www.partnersrl.info/wp-content/uploads/2022/04/PES-PAV-PEI.jpg
END:VEVENT
END:VCALENDAR