BEGIN:VCALENDAR
VERSION:2.0
PRODID:-//www.partnersrl.info - ECPv4.6.24.1//NONSGML v1.0//EN
CALSCALE:GREGORIAN
METHOD:PUBLISH
X-WR-CALNAME:www.partnersrl.info
X-ORIGINAL-URL:https://www.partnersrl.info
X-WR-CALDESC:Events for www.partnersrl.info
BEGIN:VEVENT
DTSTART;VALUE=DATE:20260324
DTEND;VALUE=DATE:20260325
DTSTAMP:20260419T205221
CREATED:20241127T080029Z
LAST-MODIFIED:20260112T080832Z
UID:5689-1774310400-1774396799@www.partnersrl.info
SUMMARY:AGGIORNAMENTO FORMAZIONE ANTINCENDIO - LIVELLO 1
DESCRIPTION:AGGIORNAMENTO PER ADDETTI ALLA SQUADRA ANTINCENDIO – LIVELLO 1\n(EX RISCHIO BASSO)\n\n\nOBBLIGHI: Secondo quanto stabilito dall’articolo 43\, comma 1\, lettera b del Decreto Legislativo 81/08 e dal Decreto Ministeriale del 2 settembre 2021\, il datore di lavoro ha l’obbligo di nominare uno o più lavoratori incaricati della gestione delle misure di prevenzione incendi e della gestione delle emergenze. \n\nDURATA E VALIDITA’: Il corso di Aggiornamento antincendio – livello 1 si estende per un periodo di 2 ore. \nLa partecipazione a questo corso garantisce una certificazione valida per cinque anni. \n\n\n\n\n\n\n\nCALENDARIO: \n\n\n 24 MARZO 2026 dalle ore 10:30 alle ore 12:30 \nCERTIFICAZIONE FINALE: Attestato di frequenza rilasciato a ciascun partecipante idoneo purché abbia frequentato entro il 90 % del monte ore complessivo e abbia superato la verifica finale. \n\n\n\n\n\nPer Informazioni:  MARTINA CREDENDINO  \n0575/360459 – credendino@gruppopartner.com \nPER ISCRIVERTI CLICCA QUI\n\n\n\n\n
URL:https://www.partnersrl.info/corso/aggiornamento-formazione-antincendio-livello-1-rischio-basso-2-2/
LOCATION:Largo Torricelli 7\, Pieve al Toppo (Arezzo)\, 52041
CATEGORIES:Corso
ATTACH;FMTTYPE=image/jpeg:https://www.partnersrl.info/wp-content/uploads/2024/11/pexels-introspectivedsgn-4916620-scaled.jpg
END:VEVENT
END:VCALENDAR