BEGIN:VCALENDAR
VERSION:2.0
PRODID:-//www.partnersrl.info - ECPv4.6.24.1//NONSGML v1.0//EN
CALSCALE:GREGORIAN
METHOD:PUBLISH
X-WR-CALNAME:www.partnersrl.info
X-ORIGINAL-URL:https://www.partnersrl.info
X-WR-CALDESC:Events for www.partnersrl.info
BEGIN:VEVENT
DTSTART;VALUE=DATE:20260212
DTEND;VALUE=DATE:20260213
DTSTAMP:20260419T161304
CREATED:20241128T080029Z
LAST-MODIFIED:20260109T120003Z
UID:5714-1770854400-1770940799@www.partnersrl.info
SUMMARY:AGGIORNAMENTO FORMAZIONE PER ADDETTI CARRELLO ELEVATORE
DESCRIPTION:AGGIORNAMENTO PER LAVORATORI ADDETTI ALLA GUIDA DEL CARRELLO ELEVATORE INDUSTRIALE SEMOVENTE CON CONDUCENTE A BORDO\n\n\n\nOBBLIGHI: L’articolo 73 del Decreto Legislativo 81/08 stabilisce l’obbligo del Datore di Lavoro di garantire che i lavoratori incaricati dell’uso delle attrezzature di lavoro ricevano una formazione specifica per garantire un utilizzo corretto e sicuro. L’Accordo Stato-Regioni del 17/04/2025. ha identificato le attrezzature di lavoro per le quali è richiesta un’abilitazione specifica degli operatori\, e tra queste sono compresi i carrelli elevatori. \nDURATA E VALIDITA’: Il corso si estende per un periodo di 4 ore ed è organizzato secondo il Nuovo Accordo Stato-Regioni del 17/04/2025. \nLa partecipazione a questo corso garantisce una certificazione valida per cinque anni. \n\nCALENDARIO: \n12 FEBBRAIO 2026 orario 09.00-13.00\n \nCERTIFICAZIONE FINALE: Attestato di frequenza rilasciato a ciascun partecipante idoneo purché abbia frequentato entro il 90 % del monte ore complessivo e purché abbia superato la verifica scritta intermedia e la verifica pratica finale. \n\n\n\n\n\n\n\nPer Informazioni:  MARTINA CREDENDINO \n0575/360459 – credendino@gruppopartner.com \n\n\nPER ISCRIVERTI CLICCA QUI\n\n\n
URL:https://www.partnersrl.info/corso/aggiornamento-carrello-elevatore-3-2/
LOCATION:Largo Torricelli 7\, Pieve al Toppo (Arezzo)\, 52041
CATEGORIES:Corso
ATTACH;FMTTYPE=image/jpeg:https://www.partnersrl.info/wp-content/uploads/2030/07/machine-3184176_1280.jpg
END:VEVENT
END:VCALENDAR