BEGIN:VCALENDAR
VERSION:2.0
PRODID:-//www.partnersrl.info - ECPv4.6.24.1//NONSGML v1.0//EN
CALSCALE:GREGORIAN
METHOD:PUBLISH
X-WR-CALNAME:www.partnersrl.info
X-ORIGINAL-URL:https://www.partnersrl.info
X-WR-CALDESC:Events for www.partnersrl.info
BEGIN:VEVENT
DTSTART;VALUE=DATE:20220315
DTEND;VALUE=DATE:20220316
DTSTAMP:20260422T113138
CREATED:20220222T080029Z
LAST-MODIFIED:20220518T150137Z
UID:3386-1647302400-1647388799@www.partnersrl.info
SUMMARY:Corso di AGGIORNAMENTO PER ADDETTI ALLA GUIDA DI PIATTAFORME DI LAVORO ELEVABILI
DESCRIPTION:\nAGGIORNAMENTO PER ADDETTI ALLA GUIDA DI PIATTAFORME DI LAVORO ELEVABILI\n\n\nObiettivi del corso: Assolvere all’obbligo di aggiornamento quinquennale previsto per gli addetti alla guida di piattaforme di lavoro elevabili con e senza stabilizzatori. \n\n\nDestinatari: lavoratori addetti alla guida di Piattaforme di Lavoro Elevabili. \n\nDURATA: 4 ORE  totali \nCALENDARIO: \n15 Marzo 2022  –  dalle ore 09.00 – 13.00 c/o Largo Torricelli 7 – 52041 Civitella in Val di Chiana (AR) \nN.B. Per poter accedere ai nostri locali sarà richiesto l’obbligo di presentazione di “Green Pass”. \nTale Certificazione attesta una delle seguenti condizioni: \n– Aver fatto la vaccinazione anti COVID-19 (almeno con la seconda dose di un vaccino riconosciuto dalla UE e che non siano trascorsi più di 6 mesi )\n– Essere negativi al test molecolare o antigenico rapido nelle ultime 48 ore\n– Essere guariti dal COVID-19 negli ultimi sei mesi. \nQUOTA: € 90\,00 + IVA  a partecipante\n \nCERTIFICAZIONE FINALE: Attestato di frequenza rilasciato a ciascun partecipante idoneo purchè abbia frequentato entro il 90 % del monte ore complessivo e purchè abbia superato  la verifica  finale. \n\n\n\nCONTENUTI DEL CORSO \nPresentazione del corso.\nIndividuazione dei componenti strutturali: sistemi di stabilizzazione\, livellamento\, telaio\, torretta girevole\, struttura a pantografo/braccio elevabile\, piattaforma e relativi sistemi di collegamento.\nDispositivi di comando e di sicurezza: identificazione dei dispositivi di comando e loro funzionamento\, identificazione dei dispositivi di sicurezza e loro funzione.\nControlli pre-utilizzo: controlli visivi e funzionali della PLE\, dei dispositivi di comando\, di segnalazione e di sicurezza previsti dal costruttore e dal manuale di istruzioni della PLE.\nControlli prima del trasferimento su strada: verifica delle condizioni di assetto (presa di forza\, struttura di sollevamento e stabilizzatori\, ecc.).\nPianificazione del percorso: pendenze\, accesso\, ostacoli sul percorso e in quota\, condizioni del terreno.\nMovimentazione e posizionamento della PLE: delimitazione dell’area di lavoro\, segnaletica da predisporre su strade pubbliche\, spostamento della PLE sul luogo di lavoro\, posizionamento stabilizzatori e livellamento. \n  \n  \n.fusion-button.button-1 .fusion-button-text\, .fusion-button.button-1 i {color:#780404;}.fusion-button.button-1 {border-width:0px;border-color:#780404;}.fusion-button.button-1 .fusion-button-icon-divider{border-color:#780404;}.fusion-button.button-1:hover .fusion-button-text\, .fusion-button.button-1:hover i\,.fusion-button.button-1:focus .fusion-button-text\, .fusion-button.button-1:focus i\,.fusion-button.button-1:active .fusion-button-text\, .fusion-button.button-1:active{color:#780404;}.fusion-button.button-1:hover\, .fusion-button.button-1:focus\, .fusion-button.button-1:active{border-width:0px;border-color:#780404;}.fusion-button.button-1:hover .fusion-button-icon-divider\, .fusion-button.button-1:hover .fusion-button-icon-divider\, .fusion-button.button-1:active .fusion-button-icon-divider{border-color:#780404;}.fusion-button.button-1{width:auto;}ISCRIVITI ORA!\n\n\n\nPer Informazioni ed iscrizioni:  ELISA BARDELLI\, ROBERTA GIANI e SILVIA GALASSO \ntel. 0575/360459\, 0575/411750\, 055/482916 \nemail: formazione@partnersrl.info – formazione@lasi.it – galasso@soluzionesrl.it \n\n\n
URL:https://www.partnersrl.info/corso/aggiornamento-addetti-alla-guida-di-piattaform-mobili-elevabili-2-2/
LOCATION:Largo Torricelli 7\, Pieve al Toppo (Arezzo)\, 52041
CATEGORIES:Corso
ATTACH;FMTTYPE=image/jpeg:https://www.partnersrl.info/wp-content/uploads/2020/06/PLW.jpg
END:VEVENT
END:VCALENDAR