BEGIN:VCALENDAR
VERSION:2.0
PRODID:-//www.partnersrl.info - ECPv4.6.24.1//NONSGML v1.0//EN
CALSCALE:GREGORIAN
METHOD:PUBLISH
X-WR-CALNAME:www.partnersrl.info
X-ORIGINAL-URL:https://www.partnersrl.info
X-WR-CALDESC:Events for www.partnersrl.info
BEGIN:VEVENT
DTSTART;VALUE=DATE:20260311
DTEND;VALUE=DATE:20260312
DTSTAMP:20260421T101627
CREATED:20241127T161206Z
LAST-MODIFIED:20260109T130937Z
UID:5769-1773187200-1773273599@www.partnersrl.info
SUMMARY:NUOVA NORMATIVA_AGGIORNAMENTO HACCP
DESCRIPTION:NUOVA NORMATIVA_ AGGIORNAMENTO HACCP\n\n\n\nDESTINATARI: soggetti livello 2 e Operatori\, Responsabili del Piano di autocontrollo o Preposti \nOBBLIGHI: aggiornare le conoscenze e competenze degli addetti che dovranno svolgere mansioni di lavoro previste dalla normativa vigente in materia alimentare. \n\nDURATA E VALIDITA’: Il corso si estende per un periodo di 3 ore. \nLa partecipazione a questo corso garantisce una certificazione valida per cinque anni. \n\n\n\n\n\n\n\nCALENDARIO: \n\n\n11 MARZO 2026 dalle ore 09:00 alle ore 12:00 \nCERTIFICAZIONE FINALE: Attestato di frequenza rilasciato a ciascun partecipante idoneo purché abbia frequentato entro il 90 % del monte ore complessivo e abbia superato la verifica finale. \n\n\n\n\n\nPer Informazioni:  MARTINA CREDENDINO  \n0575/360459 – credendino@gruppopartner.com \nPER ISCRIVERTI CLICCA QUI\n\n\n\n\n  \n
URL:https://www.partnersrl.info/corso/agg-haccp-3/
ATTACH;FMTTYPE=image/jpeg:https://www.partnersrl.info/wp-content/uploads/2024/11/spaghetti-1932466_1280.jpg
END:VEVENT
END:VCALENDAR