BEGIN:VCALENDAR
VERSION:2.0
PRODID:-//www.partnersrl.info - ECPv4.6.24.1//NONSGML v1.0//EN
CALSCALE:GREGORIAN
METHOD:PUBLISH
X-WR-CALNAME:www.partnersrl.info
X-ORIGINAL-URL:https://www.partnersrl.info
X-WR-CALDESC:Events for www.partnersrl.info
BEGIN:VEVENT
DTSTART;VALUE=DATE:20260203
DTEND;VALUE=DATE:20260224
DTSTAMP:20260421T101928
CREATED:20241202T080029Z
LAST-MODIFIED:20260112T134539Z
UID:5634-1770076800-1771891199@www.partnersrl.info
SUMMARY:FORMAZIONE PER ADDETTI AL PRIMO SOCCORSO IN AZIENDE DI GRUPPO A
DESCRIPTION:FORMAZIONE OBBLIGATORIA PER ADDETTI AL\nPRIMO SOCCORSO – Aziende Gruppo A \n\n\n\n\n\n\nOBBLIGHI: Il datore di lavoro deve nominare uno o più dipendenti incaricati alla gestione delle misure di primo soccorso aziendale\, conformemente alle disposizioni del Decreto Ministeriale n. 388/03. Tutti i dipendenti designati come Addetti al pronto soccorso\, dovranno partecipare a corsi formativi specifici in base alla categorizzazione dell’azienda (Gruppo A\, Gruppo B-C). \n\nDURATA E VALIDITA’: Il corso per Addetto al Pronto Soccorso gruppo A si estende per un periodo di 16 ore. \nLa partecipazione a questo corso garantisce una certificazione valida per tre anni. \nAl termine di questo periodo\, è necessario sottoporsi a un corso di aggiornamento della durata di 6 ore per mantenere la validità della certificazione. \n\n\n\n\nCALENDARIO: \n\n\n03 FEBBRAIO 2026 orario 09:00-13:00\n05 FEBBRAIO 2026 orario 14:15-18:15\n17 FEBBRAIO 2026 orario 09:00-13:00\n23 FEBBRAIO 2026 orario 14:15-18:15 \nCERTIFICAZIONE FINALE: Attestato di frequenza rilasciato a ciascun partecipante idoneo purché abbia frequentato entro il 90 % del monte ore complessivo e abbia superato la verifica finale. \n\n\n\n\n\nPer Informazioni ed iscrizioni:  MARTINA CREDENDINO  \n0575/360459 – credendino@gruppopartner.com \nPER ISCRIVERTI CLICCA QUI\n\n\n
URL:https://www.partnersrl.info/corso/addetti-pronto-soccorso-gruppo-a-6-2-2/
LOCATION:Largo Torricelli 7\, Pieve al Toppo (Arezzo)\, 52041
CATEGORIES:Corso
ATTACH;FMTTYPE=image/jpeg:https://www.partnersrl.info/wp-content/uploads/2024/12/pexels-mikhail-nilov-27914813-scaled.jpg
END:VEVENT
END:VCALENDAR